

BEGIN:VCALENDAR
VERSION:2.0
PRODID:-//UDC Suisse //NONSGML Events //EN
CALSCALE:GREGORIAN
X-WR-CALNAME:UDC Suisse
BEGIN:VEVENT
CREATED:20230313T120109Z
UID:101121
DTEND:20230603T123000
DTSTART:20230603T083000
DTSTAMP:20260420T172209Z
LOCATION:Schaffhausen\, Fronwagplatz (Standaktion / Zelt avec Kaffee et Gipfeli)
DESCRIPTION:
SUMMARY:UDC proche de vous avec le Conseiller aux Etats Hannes Germann ensemble avec le Conseiller national Thomas Hurter
ORGANIZER:
URL;VALUE=URI:https://www.udc.ch/actualites/agenda/udc-proche-de-vous-avec-le-conseiller-aux-etats-hannes-germann-ensemble-avec-le-conseiller-national-thomas-hurter/
TRANSP:OPAQUE
END:VEVENT
END:VCALENDAR
