

BEGIN:VCALENDAR
VERSION:2.0
PRODID:-//UDC Suisse //NONSGML Events //EN
CALSCALE:GREGORIAN
X-WR-CALNAME:UDC Suisse
BEGIN:VEVENT
CREATED:20230313T120109Z
UID:101122
DTEND:20230318T120000
DTSTART:20230318T110000
DTSTAMP:20260420T193658Z
LOCATION:Birmenstorf\, Gasthof Adler
DESCRIPTION:
SUMMARY:UDC proche de vous avec le Conseiller national Andreas Glarner ensemble avec le Conseiller national Alois Huber et Hansjörg Knecht
ORGANIZER:
URL;VALUE=URI:https://www.udc.ch/actualites/agenda/udc-proche-de-vous-avec-le-conseiller-national-andreas-glarner-ensemble-avec-le-conseiller-national-alois-huber-et-hansjorg-knecht/
TRANSP:OPAQUE
END:VEVENT
END:VCALENDAR
