

BEGIN:VCALENDAR
VERSION:2.0
PRODID:-//UDC Suisse //NONSGML Events //EN
CALSCALE:GREGORIAN
X-WR-CALNAME:UDC Suisse
BEGIN:VEVENT
CREATED:20230313T120109Z
UID:101123
DTEND:20230321T200000
DTSTART:20230321T193000
DTSTAMP:20260420T194056Z
LOCATION:Ebikon\, Restaurant Sonne\, Zentralstrasse 7
DESCRIPTION:
SUMMARY:UDC proche de vous avec le Conseiller national Franz Grüter
ORGANIZER:
URL;VALUE=URI:https://www.udc.ch/actualites/agenda/udc-proche-de-vous-avec-le-conseiller-national-franz-grutter/
TRANSP:OPAQUE
END:VEVENT
END:VCALENDAR
