

BEGIN:VCALENDAR
VERSION:2.0
PRODID:-//UDC Suisse //NONSGML Events //EN
CALSCALE:GREGORIAN
X-WR-CALNAME:UDC Suisse
BEGIN:VEVENT
CREATED:20230313T120109Z
UID:101124
DTEND:20230327T200000
DTSTART:20230327T193000
DTSTAMP:20260421T034518Z
LOCATION:Biel\, Restaurant Falken\, Bahnhofstrasse 48
DESCRIPTION:
SUMMARY:UDC proche de vous avec le Conseiller national Lars Guggisberg
ORGANIZER:
URL;VALUE=URI:https://www.udc.ch/actualites/agenda/udc-proche-de-vous-avec-le-conseiller-national-lars-guggisberg/
TRANSP:OPAQUE
END:VEVENT
END:VCALENDAR
