

BEGIN:VCALENDAR
VERSION:2.0
PRODID:-//UDC Suisse //NONSGML Events //EN
CALSCALE:GREGORIAN
X-WR-CALNAME:UDC Suisse
BEGIN:VEVENT
CREATED:20230313T120109Z
UID:101125
DTEND:20230424T210000
DTSTART:20230424T203000
DTSTAMP:20260421T030301Z
LOCATION:Weinfelden\, A. Kuster AG\, Deucherstrasse 34
DESCRIPTION:
SUMMARY:UDC proche de vous avec la Conseillère nationale Diana Gutjahr ensemble avec le Conseiller aux Etats Jakob Stark
ORGANIZER:
URL;VALUE=URI:https://www.udc.ch/actualites/agenda/udc-proche-de-vous-avec-la-conseillere-nationale-diana-gutjahr-ensemble-avec-le-conseiller-aux-etats-jakob-stark/
TRANSP:OPAQUE
END:VEVENT
END:VCALENDAR
