

BEGIN:VCALENDAR
VERSION:2.0
PRODID:-//UDC Suisse //NONSGML Events //EN
CALSCALE:GREGORIAN
X-WR-CALNAME:UDC Suisse
BEGIN:VEVENT
CREATED:20230313T120109Z
UID:101126
DTEND:20230404T200000
DTSTART:20230404T193000
DTSTAMP:20260421T004313Z
LOCATION:Knonau\, British classic Car\, Hasentalstrasse 5
DESCRIPTION:
SUMMARY:UDC proche de vous avec le Conseiller national Martin Haab ensemble avec Alfred Heer
ORGANIZER:
URL;VALUE=URI:https://www.udc.ch/actualites/agenda/udc-proche-de-vous-avec-le-conseiller-national-martin-haab-ensemble-avec-alfred-heer/
TRANSP:OPAQUE
END:VEVENT
END:VCALENDAR
