

BEGIN:VCALENDAR
VERSION:2.0
PRODID:-//UDC Suisse //NONSGML Events //EN
CALSCALE:GREGORIAN
X-WR-CALNAME:UDC Suisse
BEGIN:VEVENT
CREATED:20230313T120109Z
UID:101127
DTEND:20230330T190000
DTSTART:20230330T180000
DTSTAMP:20260421T004333Z
LOCATION:Zürich\, Roxy Bar\, Zinistrasse 7
DESCRIPTION:
SUMMARY:UDC proche de vous avec le Conseiller national Alfred Heer ensemble avec la Conseillère nationale Therese Schläpfer et le Conseiller national Thomas Matter
ORGANIZER:
URL;VALUE=URI:https://www.udc.ch/actualites/agenda/udc-proche-de-vous-avec-le-conseiller-national-alfred-heer-ensemble-avec-la-conseillere-nationale-therese-schlapfer-et-le-conseiller-national-thomas-matter/
TRANSP:OPAQUE
END:VEVENT
END:VCALENDAR
