

BEGIN:VCALENDAR
VERSION:2.0
PRODID:-//UDC Suisse //NONSGML Events //EN
CALSCALE:GREGORIAN
X-WR-CALNAME:UDC Suisse
BEGIN:VEVENT
CREATED:20230313T120109Z
UID:101128
DTEND:20230322T200000
DTSTART:20230322T191500
DTSTAMP:20260420T193639Z
LOCATION:Müllheim\, Festscheune beim Fussballgolf
DESCRIPTION:
SUMMARY:UDC proche de vous avec la Conseillère nationale Verena Herzog ensemble avec le Conseiller national Manuel Strupler
ORGANIZER:
URL;VALUE=URI:https://www.udc.ch/actualites/agenda/udc-proche-de-vous-avec-la-conseillere-nationale-verena-herzog-ensemble-avec-le-conseiller-national-manuel-strupler/
TRANSP:OPAQUE
END:VEVENT
END:VCALENDAR
