

BEGIN:VCALENDAR
VERSION:2.0
PRODID:-//UDC Suisse //NONSGML Events //EN
CALSCALE:GREGORIAN
X-WR-CALNAME:UDC Suisse
BEGIN:VEVENT
CREATED:20230313T120109Z
UID:101129
DTEND:20230414T200000
DTSTART:20230414T193000
DTSTAMP:20260421T061249Z
LOCATION:Trimbach\, Restaurant Isebähnli
DESCRIPTION:
SUMMARY:UDC proche de vous avec le Conseiller national Christian Imark ensemble avec Walter Wobmann
ORGANIZER:
URL;VALUE=URI:https://www.udc.ch/actualites/agenda/udc-proche-de-vous-avec-le-conseiller-national-christian-imark-ensemble-avec-walter-wobmann/
TRANSP:OPAQUE
END:VEVENT
END:VCALENDAR
