

BEGIN:VCALENDAR
VERSION:2.0
PRODID:-//UDC Suisse //NONSGML Events //EN
CALSCALE:GREGORIAN
X-WR-CALNAME:UDC Suisse
BEGIN:VEVENT
CREATED:20230313T120109Z
UID:101130
DTEND:20230329T210000
DTSTART:20230329T200000
DTSTAMP:20260421T004127Z
LOCATION:Domdidier\, Restaurant le Lion d'Or
DESCRIPTION:
SUMMARY:UDC proche de vous avec le Conseiller national Page Pierre-André
ORGANIZER:
URL;VALUE=URI:https://www.udc.ch/actualites/agenda/udc-proche-de-vous-avec-le-conseiller-national-page-pierre-andre/
TRANSP:OPAQUE
END:VEVENT
END:VCALENDAR
