

BEGIN:VCALENDAR
VERSION:2.0
PRODID:-//UDC Suisse //NONSGML Events //EN
CALSCALE:GREGORIAN
X-WR-CALNAME:UDC Suisse
BEGIN:VEVENT
CREATED:20230313T120109Z
UID:101132
DTEND:20230325T110000
DTSTART:20230325T100000
DTSTAMP:20260421T112628Z
LOCATION:Herisau\, Brauerei BoFo
DESCRIPTION:
SUMMARY:UDC proche de vous avec le Conseiller national Lukas Reimann ensemble avec David Zuberbühler
ORGANIZER:
URL;VALUE=URI:https://www.udc.ch/actualites/agenda/udc-proche-de-vous-avec-le-conseiller-national-lukas-reimann-ensemble-avec-david-zuberbu%cc%88hler/
TRANSP:OPAQUE
END:VEVENT
END:VCALENDAR
