

BEGIN:VCALENDAR
VERSION:2.0
PRODID:-//UDC Suisse //NONSGML Events //EN
CALSCALE:GREGORIAN
X-WR-CALNAME:UDC Suisse
BEGIN:VEVENT
CREATED:20230313T120109Z
UID:101133
DTEND:20230323T210000
DTSTART:20230323T200000
DTSTAMP:20260421T131601Z
LOCATION:Alpnach\, Restaurant Schlüssel
DESCRIPTION:
SUMMARY:UDC proche de vous avec la Conseillère nationale Monika Rüegger
ORGANIZER:
URL;VALUE=URI:https://www.udc.ch/actualites/agenda/udc-proche-de-vous-avec-la-conseillere-nationale-monika-ru%cc%88egger/
TRANSP:OPAQUE
END:VEVENT
END:VCALENDAR
