

BEGIN:VCALENDAR
VERSION:2.0
PRODID:-//UDC Suisse //NONSGML Events //EN
CALSCALE:GREGORIAN
X-WR-CALNAME:UDC Suisse
BEGIN:VEVENT
CREATED:20230313T120110Z
UID:101135
DTEND:20230331T190000
DTSTART:20230331T180000
DTSTAMP:20260421T035050Z
LOCATION:Zürich\, Restaurant Landhus\, Katzenbachstrasse 10
DESCRIPTION:Polit-Apéro der SVP Zürich 11
SUMMARY:UDC proche de vous avec le Conseiller national Rutz Gregor
ORGANIZER:
URL;VALUE=URI:https://www.udc.ch/actualites/agenda/udc-proche-de-vous-avec-le-conseiller-national-rutz-gregor-2/
TRANSP:OPAQUE
END:VEVENT
END:VCALENDAR
