

BEGIN:VCALENDAR
VERSION:2.0
PRODID:-//UDC Suisse //NONSGML Events //EN
CALSCALE:GREGORIAN
X-WR-CALNAME:UDC Suisse
BEGIN:VEVENT
CREATED:20230313T120110Z
UID:101136
DTEND:20230415T110000
DTSTART:20230415T090000
DTSTAMP:20260420T230228Z
LOCATION:Zürich\, Hotel Krone\, Unterstrass\, Schaffhauserstrasse 1
DESCRIPTION:
SUMMARY:UDC proche de vous avec le Conseiller national Rutz Gregor ensemble avec Mauro Tuena
ORGANIZER:
URL;VALUE=URI:https://www.udc.ch/actualites/agenda/udc-proche-de-vous-avec-le-conseiller-national-rutz-gregor-ensemble-avec-mauro-tuena/
TRANSP:OPAQUE
END:VEVENT
END:VCALENDAR
