

BEGIN:VCALENDAR
VERSION:2.0
PRODID:-//UDC Suisse //NONSGML Events //EN
CALSCALE:GREGORIAN
X-WR-CALNAME:UDC Suisse
BEGIN:VEVENT
CREATED:20230313T120110Z
UID:101137
DTEND:20230412T200000
DTSTART:20230412T190000
DTSTAMP:20260421T004831Z
LOCATION:Seedorf\, Restaurant Chlostermuur\, Frienisberg üses Dorf\, Bernstr. 133
DESCRIPTION:
SUMMARY:UDC proche de vous avec le Conseiller aux Etats Werner Salzmann ensemble avec la Conseillère nationale Nadja Umbricht Pieren
ORGANIZER:
URL;VALUE=URI:https://www.udc.ch/actualites/agenda/udc-proche-de-vous-avec-le-conseiller-aux-etats-werner-salzmann-ensemble-avec-la-conseillere-nationale-nadja-umbricht-pieren/
TRANSP:OPAQUE
END:VEVENT
END:VCALENDAR
