

BEGIN:VCALENDAR
VERSION:2.0
PRODID:-//UDC Suisse //NONSGML Events //EN
CALSCALE:GREGORIAN
X-WR-CALNAME:UDC Suisse
BEGIN:VEVENT
CREATED:20230313T120111Z
UID:101138
DTEND:20230331T200000
DTSTART:20230331T193000
DTSTAMP:20260421T131606Z
LOCATION:Mönchaltorf\, Kleiner Saal Mönchhof
DESCRIPTION:
SUMMARY:UDC proche de vous avec le Conseiller national Bruno Walliser
ORGANIZER:
URL;VALUE=URI:https://www.udc.ch/actualites/agenda/udc-proche-de-vous-avec-le-conseiller-national-bruno-walliser/
TRANSP:OPAQUE
END:VEVENT
END:VCALENDAR
