

BEGIN:VCALENDAR
VERSION:2.0
PRODID:-//UDC Suisse //NONSGML Events //EN
CALSCALE:GREGORIAN
X-WR-CALNAME:UDC Suisse
BEGIN:VEVENT
CREATED:20230317T033741Z
UID:101262
DTEND:20230330T200000
DTSTART:20230330T193000
DTSTAMP:20260421T061303Z
LOCATION:Restaurant Zunftstube à Brigue-Glis
DESCRIPTION:
SUMMARY:UDC proche de vous avec le Conseiller national Michael Graber
ORGANIZER:
URL;VALUE=URI:https://www.udc.ch/actualites/agenda/udc-proche-de-vous-avec-le-conseiller-national-michael-graber/
TRANSP:OPAQUE
END:VEVENT
END:VCALENDAR
