

BEGIN:VCALENDAR
VERSION:2.0
PRODID:-//UDC Suisse //NONSGML Events //EN
CALSCALE:GREGORIAN
X-WR-CALNAME:UDC Suisse
BEGIN:VEVENT
CREATED:20171213T163022Z
UID:10189
DTEND:20171215T190000
DTSTART:20171215T180000
DTSTAMP:20260420T193654Z
LOCATION:Restaurant Le Caveau la part des Anges\, Savièse
DESCRIPTION:
SUMMARY:Rapport de session avec Jean-Luc Addor
ORGANIZER:
URL;VALUE=URI:https://www.udc.ch/actualites/agenda/rapport-de-session-avec-jean-luc-addor/
TRANSP:OPAQUE
END:VEVENT
END:VCALENDAR
