

BEGIN:VCALENDAR
VERSION:2.0
PRODID:-//UDC Suisse //NONSGML Events //EN
CALSCALE:GREGORIAN
X-WR-CALNAME:UDC Suisse
BEGIN:VEVENT
CREATED:20171213T163039Z
UID:10191
DTEND:20180109T200000
DTSTART:20180109T193000
DTSTAMP:20260420T194505Z
LOCATION:Cave Mayor Vevey\, Avenue de Gilamont 50\, 1800 Vevey
DESCRIPTION:
SUMMARY:Rapport de session avec Michaël Buffat\, Alice Glauser\, Jean-Pierre Grin et Jacques Nicolet
ORGANIZER:
URL;VALUE=URI:https://www.udc.ch/actualites/agenda/rapport-de-session-avec-michael-buffat-alice-glauser-jean-pierre-grin-et-jacques-nicolet/
TRANSP:OPAQUE
END:VEVENT
END:VCALENDAR
