BEGIN:VCALENDAR
VERSION:2.0
PRODID:-//UDC Suisse //NONSGML Events //EN
CALSCALE:GREGORIAN
X-WR-CALNAME:UDC Suisse
BEGIN:VEVENT
CREATED:20230523T074529Z
UID:101911
DTEND:20231104T120000
DTSTART:20231103T000000
DTSTAMP:20231021T135704Z
LOCATION:BE
DESCRIPTION:
SUMMARY:Séance du groupe
ORGANIZER:
URL;VALUE=URI:https://www.udc.ch/actualites/agenda/seance-du-groupe-45/
TRANSP:OPAQUE
END:VEVENT
END:VCALENDAR
