

BEGIN:VCALENDAR
VERSION:2.0
PRODID:-//UDC Suisse //NONSGML Events //EN
CALSCALE:GREGORIAN
X-WR-CALNAME:UDC Suisse
BEGIN:VEVENT
CREATED:20171213T162909Z
UID:10193
DTEND:20180223T200000
DTSTART:20180223T193000
DTSTAMP:20260420T172010Z
LOCATION:Salle communale\, 1691 Villarimboud
DESCRIPTION:
SUMMARY:Rapport de session avec Pierre-André Page et Jean-François Rime
ORGANIZER:
URL;VALUE=URI:https://www.udc.ch/actualites/agenda/rapport-de-session-avec-pierre-andre-page-et-jean-francois-rime/
TRANSP:OPAQUE
END:VEVENT
END:VCALENDAR
