

BEGIN:VCALENDAR
VERSION:2.0
PRODID:-//UDC Suisse //NONSGML Events //EN
CALSCALE:GREGORIAN
X-WR-CALNAME:UDC Suisse
BEGIN:VEVENT
CREATED:20230531T044644Z
UID:102024
DTEND:20230602T110000
DTSTART:20230602T100000
DTSTAMP:20260421T042538Z
LOCATION:Hôtel Alpha-Palmiers\, Rue du Petit-Chêne 34\, 1003 Lausanne
DESCRIPTION:Pour le pouvoir d'achat des Suisses : NON à la loi sur le gaspillage 
SUMMARY:Invitation à la conférence de presse de Marco Chiesa et de l&rsquo\;UDC Suisse romande
ORGANIZER:
URL;VALUE=URI:https://www.udc.ch/actualites/agenda/invitation-a-la-conference-de-presse-de-marco-chiesa-et-de-ludc-suisse-romande/
TRANSP:OPAQUE
END:VEVENT
END:VCALENDAR
