

BEGIN:VCALENDAR
VERSION:2.0
PRODID:-//UDC Suisse //NONSGML Events //EN
CALSCALE:GREGORIAN
X-WR-CALNAME:UDC Suisse
BEGIN:VEVENT
CREATED:20180314T092645Z
UID:10905
DTEND:20180316T190000
DTSTART:20180316T183000
DTSTAMP:20260420T213430Z
LOCATION:Café des Amis\, Rue des Rois Mages\, 1965 Savièse
DESCRIPTION:
SUMMARY:Rapport de session avec Jean-Luc Addor
ORGANIZER:
URL;VALUE=URI:https://www.udc.ch/actualites/agenda/rapport-de-session-avec-jean-luc-addor-2/
TRANSP:OPAQUE
END:VEVENT
END:VCALENDAR
