

BEGIN:VCALENDAR
VERSION:2.0
PRODID:-//UDC Suisse //NONSGML Events //EN
CALSCALE:GREGORIAN
X-WR-CALNAME:UDC Suisse
BEGIN:VEVENT
CREATED:20180314T092801Z
UID:10907
DTEND:20180317T120000
DTSTART:20180317T110000
DTSTAMP:20260420T193753Z
LOCATION:Apotheke Ryser\, Burgdorf
DESCRIPTION:
SUMMARY:Rapport de session avec Andreas Aebi
ORGANIZER:
URL;VALUE=URI:https://www.udc.ch/actualites/agenda/rapport-de-session-avec-andreas-aebi/
TRANSP:OPAQUE
END:VEVENT
END:VCALENDAR
