

BEGIN:VCALENDAR
VERSION:2.0
PRODID:-//UDC Suisse //NONSGML Events //EN
CALSCALE:GREGORIAN
X-WR-CALNAME:UDC Suisse
BEGIN:VEVENT
CREATED:20180314T092942Z
UID:10909
DTEND:20180327T200000
DTSTART:20180327T193000
DTSTAMP:20260421T042228Z
LOCATION:Swisshotel Zug\, Chollerstrasse 1a\, Zug
DESCRIPTION:
SUMMARY:Rapport de session avec Thomas Aeschi
ORGANIZER:
URL;VALUE=URI:https://www.udc.ch/actualites/agenda/rapport-de-session-avec-thomas-aeschi/
TRANSP:OPAQUE
END:VEVENT
END:VCALENDAR
