

BEGIN:VCALENDAR
VERSION:2.0
PRODID:-//UDC Suisse //NONSGML Events //EN
CALSCALE:GREGORIAN
X-WR-CALNAME:UDC Suisse
BEGIN:VEVENT
CREATED:20180314T094440Z
UID:10911
DTEND:20180322T210000
DTSTART:20180322T200000
DTSTAMP:20260420T213201Z
LOCATION:Restaurant Krone\, Dorfstrasse 5\, 3661 Uetendorf
DESCRIPTION:
SUMMARY:Rapport de session avec Adrian Amstutz et Albert Rösti
ORGANIZER:
URL;VALUE=URI:https://www.udc.ch/actualites/agenda/rapport-de-session-avec-adrian-amstutz-et-albert-rosti/
TRANSP:OPAQUE
END:VEVENT
END:VCALENDAR
