

BEGIN:VCALENDAR
VERSION:2.0
PRODID:-//UDC Suisse //NONSGML Events //EN
CALSCALE:GREGORIAN
X-WR-CALNAME:UDC Suisse
BEGIN:VEVENT
CREATED:20180314T094646Z
UID:10913
DTEND:20180410T210000
DTSTART:20180410T200000
DTSTAMP:20260420T172155Z
LOCATION:Hotel Rätia\, Ilanz
DESCRIPTION:
SUMMARY:Rapport de session avec Heinz Brand-Ciocco
ORGANIZER:
URL;VALUE=URI:https://www.udc.ch/actualites/agenda/rapport-de-session-avec-heinz-brand-ciocco/
TRANSP:OPAQUE
END:VEVENT
END:VCALENDAR
