

BEGIN:VCALENDAR
VERSION:2.0
PRODID:-//UDC Suisse //NONSGML Events //EN
CALSCALE:GREGORIAN
X-WR-CALNAME:UDC Suisse
BEGIN:VEVENT
CREATED:20180314T094909Z
UID:10915
DTEND:20180411T200000
DTSTART:20180411T193000
DTSTAMP:20260420T185204Z
LOCATION:Restaurant Sonne\, Kriessern
DESCRIPTION:
SUMMARY:Rapport de session avec Toni Brunner et Roland Rino Büchel
ORGANIZER:
URL;VALUE=URI:https://www.udc.ch/actualites/agenda/rapport-de-session-avec-toni-brunner-et-roland-rino-buchel/
TRANSP:OPAQUE
END:VEVENT
END:VCALENDAR
