

BEGIN:VCALENDAR
VERSION:2.0
PRODID:-//UDC Suisse //NONSGML Events //EN
CALSCALE:GREGORIAN
X-WR-CALNAME:UDC Suisse
BEGIN:VEVENT
CREATED:20180314T095459Z
UID:10919
DTEND:20180327T200000
DTSTART:20180327T190000
DTSTAMP:20260420T194158Z
LOCATION:Cave Mayor\, Vevey
DESCRIPTION:
SUMMARY:Rapport de session avec Michaël Buffat\, Alice Glauser\, Jean-Pierre Grin et Jacques Nicolet
ORGANIZER:
URL;VALUE=URI:https://www.udc.ch/actualites/agenda/rapport-de-session-avec-michael-buffat-alice-glauser-jean-pierre-grin-et-jacques-nicolet-2/
TRANSP:OPAQUE
END:VEVENT
END:VCALENDAR
