

BEGIN:VCALENDAR
VERSION:2.0
PRODID:-//UDC Suisse //NONSGML Events //EN
CALSCALE:GREGORIAN
X-WR-CALNAME:UDC Suisse
BEGIN:VEVENT
CREATED:20180314T095823Z
UID:10921
DTEND:20180325T210000
DTSTART:20180325T200000
DTSTAMP:20260420T171945Z
LOCATION:Restaurant du Midi\, Reconvilier
DESCRIPTION:
SUMMARY:Rapport de session avec Manfred Bühler
ORGANIZER:
URL;VALUE=URI:https://www.udc.ch/actualites/agenda/rapport-de-session-avec-manfred-buhler/
TRANSP:OPAQUE
END:VEVENT
END:VCALENDAR
