

BEGIN:VCALENDAR
VERSION:2.0
PRODID:-//UDC Suisse //NONSGML Events //EN
CALSCALE:GREGORIAN
X-WR-CALNAME:UDC Suisse
BEGIN:VEVENT
CREATED:20180314T100006Z
UID:10923
DTEND:20180320T200000
DTSTART:20180320T193000
DTSTAMP:20260420T213706Z
LOCATION:Restaurant Kaserne\, Kantinenweg 6\, 4410 Liestal
DESCRIPTION:
SUMMARY:Rapport de session avec Thomas de Courten et Sandra Sollberger
ORGANIZER:
URL;VALUE=URI:https://www.udc.ch/actualites/agenda/rapport-de-session-avec-thomas-de-courten-et-sandra-sollberger/
TRANSP:OPAQUE
END:VEVENT
END:VCALENDAR
