

BEGIN:VCALENDAR
VERSION:2.0
PRODID:-//UDC Suisse //NONSGML Events //EN
CALSCALE:GREGORIAN
X-WR-CALNAME:UDC Suisse
BEGIN:VEVENT
CREATED:20180314T100256Z
UID:10925
DTEND:20180322T210000
DTSTART:20180322T200000
DTSTAMP:20260420T213905Z
LOCATION:weisses Rössli\, 6440 Brunnen
DESCRIPTION:
SUMMARY:Rapport de session avec Marcel Dettling\, Pirmin Schwander et Peter Föhn
ORGANIZER:
URL;VALUE=URI:https://www.udc.ch/actualites/agenda/rapport-de-session-avec-marcel-dettling-pirmin-schwander-et-peter-fohn/
TRANSP:OPAQUE
END:VEVENT
END:VCALENDAR
