

BEGIN:VCALENDAR
VERSION:2.0
PRODID:-//UDC Suisse //NONSGML Events //EN
CALSCALE:GREGORIAN
X-WR-CALNAME:UDC Suisse
BEGIN:VEVENT
CREATED:20180314T100538Z
UID:10927
DTEND:20180317T120000
DTSTART:20180317T110000
DTSTAMP:20260420T213856Z
LOCATION:Singsaal\, Schulhausanlage Büel\, Büelstrasse 15\, 8103 Unterengstringen
DESCRIPTION:
SUMMARY:Rapport de session avec Hans Egloff
ORGANIZER:
URL;VALUE=URI:https://www.udc.ch/actualites/agenda/rapport-de-session-avec-hans-egloff/
TRANSP:OPAQUE
END:VEVENT
END:VCALENDAR
