

BEGIN:VCALENDAR
VERSION:2.0
PRODID:-//UDC Suisse //NONSGML Events //EN
CALSCALE:GREGORIAN
X-WR-CALNAME:UDC Suisse
BEGIN:VEVENT
CREATED:20180314T100702Z
UID:10929
DTEND:20180329T210000
DTSTART:20180329T200000
DTSTAMP:20260420T190816Z
LOCATION:Restaurant Obernau\, Kriens-Obernau
DESCRIPTION:
SUMMARY:Rapport de session avec Yvette Estermann
ORGANIZER:
URL;VALUE=URI:https://www.udc.ch/actualites/agenda/rapport-de-session-avec-yvette-estermann/
TRANSP:OPAQUE
END:VEVENT
END:VCALENDAR
