

BEGIN:VCALENDAR
VERSION:2.0
PRODID:-//UDC Suisse //NONSGML Events //EN
CALSCALE:GREGORIAN
X-WR-CALNAME:UDC Suisse
BEGIN:VEVENT
CREATED:20180314T100917Z
UID:10931
DTEND:20180316T200000
DTSTART:20180316T193000
DTSTAMP:20260420T153434Z
LOCATION:Café Caprice\, Dorfstrasse\, 5040 Schöftland
DESCRIPTION:
SUMMARY:Rapport de session avec Sylvia Flückiger-Bäni
ORGANIZER:
URL;VALUE=URI:https://www.udc.ch/actualites/agenda/rapport-de-session-avec-sylvia-fluckiger-bani/
TRANSP:OPAQUE
END:VEVENT
END:VCALENDAR
