

BEGIN:VCALENDAR
VERSION:2.0
PRODID:-//UDC Suisse //NONSGML Events //EN
CALSCALE:GREGORIAN
X-WR-CALNAME:UDC Suisse
BEGIN:VEVENT
CREATED:20180314T101129Z
UID:10933
DTEND:20180319T190000
DTSTART:20180319T180000
DTSTAMP:20260421T061005Z
LOCATION:Restaurant Torstübli\, Riehentorstrasse 27\, 4058 Basel
DESCRIPTION:
SUMMARY:Rapport de session avec Sebastian Frehner
ORGANIZER:
URL;VALUE=URI:https://www.udc.ch/actualites/agenda/rapport-de-session-avec-sebastian-frehner/
TRANSP:OPAQUE
END:VEVENT
END:VCALENDAR
