

BEGIN:VCALENDAR
VERSION:2.0
PRODID:-//UDC Suisse //NONSGML Events //EN
CALSCALE:GREGORIAN
X-WR-CALNAME:UDC Suisse
BEGIN:VEVENT
CREATED:20180314T101301Z
UID:10935
DTEND:20180317T120000
DTSTART:20180317T100000
DTSTAMP:20260420T194041Z
LOCATION:Dorfplatz Neuenegg
DESCRIPTION:
SUMMARY:Rapport de session avec Andrea Geissbühler
ORGANIZER:
URL;VALUE=URI:https://www.udc.ch/actualites/agenda/rapport-de-session-avec-andrea-geissbuhler/
TRANSP:OPAQUE
END:VEVENT
END:VCALENDAR
