

BEGIN:VCALENDAR
VERSION:2.0
PRODID:-//UDC Suisse //NONSGML Events //EN
CALSCALE:GREGORIAN
X-WR-CALNAME:UDC Suisse
BEGIN:VEVENT
CREATED:20180314T101437Z
UID:10937
DTEND:20180317T120000
DTSTART:20180317T110000
DTSTAMP:20260420T172225Z
LOCATION:Restaurant Tägerhard\, Wettingen
DESCRIPTION:
SUMMARY:Rapport de session avec Ulrich Giezendanner
ORGANIZER:
URL;VALUE=URI:https://www.udc.ch/actualites/agenda/rapport-de-session-avec-ulrich-giezendanner/
TRANSP:OPAQUE
END:VEVENT
END:VCALENDAR
