

BEGIN:VCALENDAR
VERSION:2.0
PRODID:-//UDC Suisse //NONSGML Events //EN
CALSCALE:GREGORIAN
X-WR-CALNAME:UDC Suisse
BEGIN:VEVENT
CREATED:20180314T101622Z
UID:10939
DTEND:20180321T200000
DTSTART:20180321T193000
DTSTAMP:20260420T213711Z
LOCATION:Restaurant Löwen\, Luzernerstrasse 2\, 6274 Eschenbach
DESCRIPTION:
SUMMARY:Rapport de session avec Franz Grüter et Felix Müri
ORGANIZER:
URL;VALUE=URI:https://www.udc.ch/actualites/agenda/rapport-de-session-avec-franz-gruter-et-felix-muri/
TRANSP:OPAQUE
END:VEVENT
END:VCALENDAR
