

BEGIN:VCALENDAR
VERSION:2.0
PRODID:-//UDC Suisse //NONSGML Events //EN
CALSCALE:GREGORIAN
X-WR-CALNAME:UDC Suisse
BEGIN:VEVENT
CREATED:20180314T102131Z
UID:10941
DTEND:20180327T210000
DTSTART:20180327T193000
DTSTAMP:20260421T080040Z
LOCATION:Restaurant Neubühl\, Winterthurerstrasse 175\, 8057 Zürich (Kreis 6\, beim Irchelpark)
DESCRIPTION:
SUMMARY:Rapport de session avec Alfred Heer\, Mauro Tuena\, Gregor Rutz et Hans Ueli Vogt
ORGANIZER:
URL;VALUE=URI:https://www.udc.ch/actualites/agenda/rapport-de-session-avec-alfred-heer-mauro-tuena-gregor-rutz-et-hans-ueli-vogt/
TRANSP:OPAQUE
END:VEVENT
END:VCALENDAR
