

BEGIN:VCALENDAR
VERSION:2.0
PRODID:-//UDC Suisse //NONSGML Events //EN
CALSCALE:GREGORIAN
X-WR-CALNAME:UDC Suisse
BEGIN:VEVENT
CREATED:20180314T102354Z
UID:10943
DTEND:20180326T200000
DTSTART:20180326T190000
DTSTAMP:20260420T193535Z
LOCATION:Sonnengartenstrasse 45\, 8125 Zollikerberg
DESCRIPTION:
SUMMARY:Rapport de session avec Gregor Rutz
ORGANIZER:
URL;VALUE=URI:https://www.udc.ch/actualites/agenda/rapport-de-session-avec-gregor-rutz/
TRANSP:OPAQUE
END:VEVENT
END:VCALENDAR
