

BEGIN:VCALENDAR
VERSION:2.0
PRODID:-//UDC Suisse //NONSGML Events //EN
CALSCALE:GREGORIAN
X-WR-CALNAME:UDC Suisse
BEGIN:VEVENT
CREATED:20180314T102537Z
UID:10945
DTEND:20180328T190000
DTSTART:20180328T183000
DTSTAMP:20260420T134717Z
LOCATION:Bischöfliches Schloss\, Hof 19\, 7000 Chur
DESCRIPTION:
SUMMARY:Rapport de session avec Gregor  Rutz
ORGANIZER:
URL;VALUE=URI:https://www.udc.ch/actualites/agenda/rapport-de-session-avec-gregor-rutz-2/
TRANSP:OPAQUE
END:VEVENT
END:VCALENDAR
