

BEGIN:VCALENDAR
VERSION:2.0
PRODID:-//UDC Suisse //NONSGML Events //EN
CALSCALE:GREGORIAN
X-WR-CALNAME:UDC Suisse
BEGIN:VEVENT
CREATED:20180314T102741Z
UID:10947
DTEND:20180420T190000
DTSTART:20180420T180000
DTSTAMP:20260420T193919Z
LOCATION:Fadachersaal\, Fuchshalde 2-4\, 8305 Dietlikon
DESCRIPTION:
SUMMARY:Rapport de session avec Gregor Rutz
ORGANIZER:
URL;VALUE=URI:https://www.udc.ch/actualites/agenda/rapport-de-session-avec-gregor-rutz-3/
TRANSP:OPAQUE
END:VEVENT
END:VCALENDAR
