

BEGIN:VCALENDAR
VERSION:2.0
PRODID:-//UDC Suisse //NONSGML Events //EN
CALSCALE:GREGORIAN
X-WR-CALNAME:UDC Suisse
BEGIN:VEVENT
CREATED:20180314T103110Z
UID:10951
DTEND:20180319T200000
DTSTART:20180319T193000
DTSTAMP:20260420T214224Z
LOCATION:Restaurant Schützen\, Aarau
DESCRIPTION:
SUMMARY:Rapport de session avec Andreas Glarner
ORGANIZER:
URL;VALUE=URI:https://www.udc.ch/actualites/agenda/rapport-de-session-avec-andreas-glarner-2/
TRANSP:OPAQUE
END:VEVENT
END:VCALENDAR
