

BEGIN:VCALENDAR
VERSION:2.0
PRODID:-//UDC Suisse //NONSGML Events //EN
CALSCALE:GREGORIAN
X-WR-CALNAME:UDC Suisse
BEGIN:VEVENT
CREATED:20180314T103454Z
UID:10955
DTEND:20180322T210000
DTSTART:20180322T200000
DTSTAMP:20260420T190439Z
LOCATION:Dorfbeizli Brunnenthal\, Dorfstrasse 19\, 3307 Brunnenthal
DESCRIPTION:
SUMMARY:Rapport de session avec Christian Imark et Walter Wobmann
ORGANIZER:
URL;VALUE=URI:https://www.udc.ch/actualites/agenda/rapport-de-session-avec-christian-imark-et-walter-wobmann/
TRANSP:OPAQUE
END:VEVENT
END:VCALENDAR
