

BEGIN:VCALENDAR
VERSION:2.0
PRODID:-//UDC Suisse //NONSGML Events //EN
CALSCALE:GREGORIAN
X-WR-CALNAME:UDC Suisse
BEGIN:VEVENT
CREATED:20180314T103702Z
UID:10957
DTEND:20180503T000000
DTSTART:20180503T000000
DTSTAMP:20260420T214044Z
LOCATION:SVP Amriswil
DESCRIPTION:
SUMMARY:Rapport de session avec Diana Gutjahr et Markus Hausammann
ORGANIZER:
URL;VALUE=URI:https://www.udc.ch/actualites/agenda/rapport-de-session-avec-diana-gutjahr-et-markus-hausammann/
TRANSP:OPAQUE
END:VEVENT
END:VCALENDAR
