

BEGIN:VCALENDAR
VERSION:2.0
PRODID:-//UDC Suisse //NONSGML Events //EN
CALSCALE:GREGORIAN
X-WR-CALNAME:UDC Suisse
BEGIN:VEVENT
CREATED:20180314T103833Z
UID:10959
DTEND:20180417T000000
DTSTART:20180417T000000
DTSTAMP:20260420T193707Z
LOCATION:Restaurant Landhaus\, Engelswilen
DESCRIPTION:
SUMMARY:Rapport de session avec Markus Hausammann
ORGANIZER:
URL;VALUE=URI:https://www.udc.ch/actualites/agenda/rapport-de-session-avec-markus-hausammann/
TRANSP:OPAQUE
END:VEVENT
END:VCALENDAR
