

BEGIN:VCALENDAR
VERSION:2.0
PRODID:-//UDC Suisse //NONSGML Events //EN
CALSCALE:GREGORIAN
X-WR-CALNAME:UDC Suisse
BEGIN:VEVENT
CREATED:20180314T103956Z
UID:10961
DTEND:20180323T153000
DTSTART:20180323T133000
DTSTAMP:20260420T172301Z
LOCATION:Thurgauer Früjahrsmesse in Frauenfeld\, Halle 2\, Stand 211
DESCRIPTION:
SUMMARY:Rapport de session avec Verena Herzog-Schläpfer
ORGANIZER:
URL;VALUE=URI:https://www.udc.ch/actualites/agenda/rapport-de-session-avec-verena-herzog-schlapfer/
TRANSP:OPAQUE
END:VEVENT
END:VCALENDAR
