

BEGIN:VCALENDAR
VERSION:2.0
PRODID:-//UDC Suisse //NONSGML Events //EN
CALSCALE:GREGORIAN
X-WR-CALNAME:UDC Suisse
BEGIN:VEVENT
CREATED:20180314T104218Z
UID:10963
DTEND:20180317T100000
DTSTART:20180317T093000
DTSTAMP:20260421T112755Z
LOCATION:Restaurant Rosenburg (Höfli)\, Stans
DESCRIPTION:
SUMMARY:Rapport de session avec Peter Keller
ORGANIZER:
URL;VALUE=URI:https://www.udc.ch/actualites/agenda/rapport-de-session-avec-peter-keller/
TRANSP:OPAQUE
END:VEVENT
END:VCALENDAR
