

BEGIN:VCALENDAR
VERSION:2.0
PRODID:-//UDC Suisse //NONSGML Events //EN
CALSCALE:GREGORIAN
X-WR-CALNAME:UDC Suisse
BEGIN:VEVENT
CREATED:20180314T104443Z
UID:10965
DTEND:20180412T210000
DTSTART:20180412T200000
DTSTAMP:20260420T205451Z
LOCATION:Frohe Aussicht\, Rickenstrasse 55\, Uznach
DESCRIPTION:
SUMMARY:Rapport de session avec Barbara Keller-Inhelder
ORGANIZER:
URL;VALUE=URI:https://www.udc.ch/actualites/agenda/rapport-de-session-avec-barbara-keller-inhelder/
TRANSP:OPAQUE
END:VEVENT
END:VCALENDAR
